BEGIN:VCALENDAR
PRODID:-//nmmu.ac.za//iCalendar Sample MIMEDIR//EN
VERSION:2.0
METHOD:PUBLISH
BEGIN:VEVENT

DTSTART:20260331T060000Z
DTEND:20260331T063000Z
LOCATION:
CATEGORIES:
TRANSP:OPAQUE
SEQUENCE:0
UID:RFCALITEM639122891182821067
DTSTAMP:20260331T060000Z
DESCRIPTION:Autumn graduation (George)&nbsp;

SUMMARY:Autumn graduation (George)&nbsp;


PRIORITY:5
CLASS:PUBLIC
BEGIN:VALARM
TRIGGER:PT15M
ACTION:DISPLAY
DESCRIPTION:Reminder
PRIORITY:5
END:VALARM
END:VEVENT
END:VCALENDAR