BEGIN:VCALENDAR
PRODID:-//nmmu.ac.za//iCalendar Sample MIMEDIR//EN
VERSION:2.0
METHOD:PUBLISH
BEGIN:VEVENT

DTSTART:20260318T060000Z
DTEND:20260318T063000Z
LOCATION:
CATEGORIES:
TRANSP:OPAQUE
SEQUENCE:0
UID:RFCALITEM639122306528496690
DTSTAMP:20260318T060000Z
DESCRIPTION:Faculty of Science Board of Faculty (BOF)

SUMMARY:Faculty of Science Board of Faculty (BOF)


PRIORITY:5
CLASS:PUBLIC
BEGIN:VALARM
TRIGGER:PT15M
ACTION:DISPLAY
DESCRIPTION:Reminder
PRIORITY:5
END:VALARM
END:VEVENT
END:VCALENDAR