BEGIN:VCALENDAR
PRODID:-//nmmu.ac.za//iCalendar Sample MIMEDIR//EN
VERSION:2.0
METHOD:PUBLISH
BEGIN:VEVENT

DTSTART:20260309T060000Z
DTEND:20260309T063000Z
LOCATION:
CATEGORIES:
TRANSP:OPAQUE
SEQUENCE:0
UID:RFCALITEM639122891202350687
DTSTAMP:20260309T060000Z
DESCRIPTION:Year modules - Final day for cancellation to ensure no fee liability for Year modules ends

SUMMARY:Year modules - Final day for cancellation to ensure no fee liability for Year modules ends


PRIORITY:5
CLASS:PUBLIC
BEGIN:VALARM
TRIGGER:PT15M
ACTION:DISPLAY
DESCRIPTION:Reminder
PRIORITY:5
END:VALARM
END:VEVENT
END:VCALENDAR