BEGIN:VCALENDAR
PRODID:-//nmmu.ac.za//iCalendar Sample MIMEDIR//EN
VERSION:2.0
METHOD:PUBLISH
BEGIN:VEVENT

DTSTART:20260309T060000Z
DTEND:20260309T063000Z
LOCATION:
CATEGORIES:
TRANSP:OPAQUE
SEQUENCE:0
UID:RFCALITEM639122891193131925
DTSTAMP:20260309T060000Z
DESCRIPTION:Term 1 - Last day for cancellation of Term 1 modules to ensure no fee liability ends

SUMMARY:Term 1 - Last day for cancellation of Term 1 modules to ensure no fee liability ends


PRIORITY:5
CLASS:PUBLIC
BEGIN:VALARM
TRIGGER:PT15M
ACTION:DISPLAY
DESCRIPTION:Reminder
PRIORITY:5
END:VALARM
END:VEVENT
END:VCALENDAR