BEGIN:VCALENDAR
PRODID:-//nmmu.ac.za//iCalendar Sample MIMEDIR//EN
VERSION:2.0
METHOD:PUBLISH
BEGIN:VEVENT

DTSTART:20260310T060000Z
DTEND:20260310T063000Z
LOCATION:
CATEGORIES:
TRANSP:OPAQUE
SEQUENCE:0
UID:RFCALITEM639122412025474995
DTSTAMP:20260310T060000Z
DESCRIPTION:Term 1 - Cancellation will result in 100% fee liability starts

SUMMARY:Term 1 - Cancellation will result in 100% fee liability starts


PRIORITY:5
CLASS:PUBLIC
BEGIN:VALARM
TRIGGER:PT15M
ACTION:DISPLAY
DESCRIPTION:Reminder
PRIORITY:5
END:VALARM
END:VEVENT
END:VCALENDAR